BEGIN:VCALENDAR
PRODID:-//Microsoft Corporation//Outlook 12.0 MIMEDIR//EN
VERSION:2.0
CALSCALE:GREGORIAN
BEGIN:VEVENT
UID: 96b0a153-5585-4cca-a60f-69c47c0a3e56
SUMMARY:Töötuba: Kuivatamine
DTSTAMP:20240531T150000
DTSTART:20240531T150000
DTEND:20240531T180000
LOCATION:Olustvere TMK õppeköök
DESCRIPTION: <p><strong>Töötoa pikkus:</strong> 3 tundi</p><p><strong>Töötuba toimub: </strong>31. mai 2024</p><p><strong>Töötuba juhendab:&nbsp;</strong>Maire Vesingi. Olustvere Teenindus- ja Maamajanduskooli kutseõpetaja, toitumisterapeut, mitmete tervisliku toidu retseptiraamatute autor</p><p><strong>Töötoa maksumus</strong>: 29 eurot</p><p>Töötuppa saab registreerida<a href="https://docs.google.com/forms/d/1Bj6xVMIX8kxyapy6Cg9OSexUP0fbC0PypKWr8G86c_Y/"> SIIN</a></p><p>&nbsp;</p><p><strong>Link: </strong>https://olustvere.edu.ee/et/koolituste-kalender/tootuba-kuivatamine</p><p><strong>Hind: </strong>29</p>
STATUS:CONFIRMED
SEQUENCE:3
X-ALT-DESC;FMTTYPE=text/html:<p><strong>Töötoa pikkus:</strong> 3 tundi</p><p><strong>Töötuba toimub: </strong>31. mai 2024</p><p><strong>Töötuba juhendab:&nbsp;</strong>Maire Vesingi. Olustvere Teenindus- ja Maamajanduskooli kutseõpetaja, toitumisterapeut, mitmete tervisliku toidu retseptiraamatute autor</p><p><strong>Töötoa maksumus</strong>: 29 eurot</p><p>Töötuppa saab registreerida<a href="https://docs.google.com/forms/d/1Bj6xVMIX8kxyapy6Cg9OSexUP0fbC0PypKWr8G86c_Y/"> SIIN</a></p><p>&nbsp;</p><p><strong>Link: </strong>https://olustvere.edu.ee/et/koolituste-kalender/tootuba-kuivatamine</p><p><strong>Hind: </strong>29</p>
X-MICROSOFT-CDO-BUSYSTATUS:OOF
X-MICROSOFT-CDO-IMPORTANCE:1
X-MICROSOFT-DISALLOW-COUNTER:FALSE
X-MS-OLK-ALLOWEXTERNCHECK:TRUE
X-MS-OLK-CONFTYPE:0
X-MICROSOFT-CDO-ALLDAYEVENT:
X-MICROSOFT-MSNCALENDAR-ALLDAYEVENT:
END:VEVENT
END:VCALENDAR