BEGIN:VCALENDAR
PRODID:-//Microsoft Corporation//Outlook 12.0 MIMEDIR//EN
VERSION:2.0
CALSCALE:GREGORIAN
BEGIN:VEVENT
UID: dce1bb12-775b-4f79-81a8-512723d0a28d
SUMMARY:Tasuline koolitus Kalmu kujundamine
DTSTAMP:20240426
DTSTART:20240426
DTEND:20240427
DURATION:P1D
LOCATION:
DESCRIPTION: <p><strong>Tasuline koolitus Kalmu kujundamine</strong></p><p><strong>Koolituse pikkus</strong>: 6 tundi</p><p><strong>Koolitus toimub</strong>: 26. aprill 2024</p><p><strong>Koolituse läbinud õppija:</strong></p><ul>	<li>Valib kalmu kujundamiseks sobilikud taimed lähtuvalt pinnasest ning valgustingimustest</li>	<li>Kujundab kalmu arvestades olemasolevate pinnase ja valgustingimustega</li>	<li>Oskab hooldada kalmu lähtuvalt seal kasvavatest taimedest</li></ul><p><strong>Koolitaja:</strong> Reti Randoja Muts, praktik, Olustvere Teenindus- ja Maamajanduskooli aiandusõpetaja, ettevõtja</p><p>Koolituse täpsema õppekava leiad <a href="/sites/olustvere.edu.ee/files/oppekava_kalmu_kujundamine_4.doc">SIIT</a></p><p>Koolitusele saad kirja panna <a href="https://docs.google.com/forms/d/1uZs1qtnl86wWpRfVEU5g6-0RWgZJ0odls0zWwZWtWrU/">SIIN</a></p><p><strong>Koolituse maksumus: </strong>47 eurot</p><p><strong>Link: </strong>https://olustvere.edu.ee/et/koolituste-kalender/tasuline-koolitus-kalmu-kujundamine</p><p><strong>Hind: </strong>47</p>
STATUS:CONFIRMED
SEQUENCE:3
X-ALT-DESC;FMTTYPE=text/html:<p><strong>Tasuline koolitus Kalmu kujundamine</strong></p><p><strong>Koolituse pikkus</strong>: 6 tundi</p><p><strong>Koolitus toimub</strong>: 26. aprill 2024</p><p><strong>Koolituse läbinud õppija:</strong></p><ul>	<li>Valib kalmu kujundamiseks sobilikud taimed lähtuvalt pinnasest ning valgustingimustest</li>	<li>Kujundab kalmu arvestades olemasolevate pinnase ja valgustingimustega</li>	<li>Oskab hooldada kalmu lähtuvalt seal kasvavatest taimedest</li></ul><p><strong>Koolitaja:</strong> Reti Randoja Muts, praktik, Olustvere Teenindus- ja Maamajanduskooli aiandusõpetaja, ettevõtja</p><p>Koolituse täpsema õppekava leiad <a href="/sites/olustvere.edu.ee/files/oppekava_kalmu_kujundamine_4.doc">SIIT</a></p><p>Koolitusele saad kirja panna <a href="https://docs.google.com/forms/d/1uZs1qtnl86wWpRfVEU5g6-0RWgZJ0odls0zWwZWtWrU/">SIIN</a></p><p><strong>Koolituse maksumus: </strong>47 eurot</p><p><strong>Link: </strong>https://olustvere.edu.ee/et/koolituste-kalender/tasuline-koolitus-kalmu-kujundamine</p><p><strong>Hind: </strong>47</p>
X-MICROSOFT-CDO-BUSYSTATUS:OOF
X-MICROSOFT-CDO-IMPORTANCE:1
X-MICROSOFT-DISALLOW-COUNTER:FALSE
X-MS-OLK-ALLOWEXTERNCHECK:TRUE
X-MS-OLK-CONFTYPE:0
X-MICROSOFT-CDO-ALLDAYEVENT:1
X-MICROSOFT-MSNCALENDAR-ALLDAYEVENT:1
END:VEVENT
END:VCALENDAR