BEGIN:VCALENDAR
PRODID:-//Microsoft Corporation//Outlook 12.0 MIMEDIR//EN
VERSION:2.0
CALSCALE:GREGORIAN
BEGIN:VEVENT
UID: 4c920132-a81b-41d9-bb0d-39637bfcb5f7
SUMMARY:Tasuline koolitus: Magusad ja soolased kringlid
DTSTAMP:20230612T000000
DTSTART:20230612T000000
DTEND:20230612T123500
LOCATION:
DESCRIPTION: <p>	<strong>Tasuline koolitus: Magusad ja soolased kringlid</strong></p><p>	<strong>Koolituse pikkus: </strong>8 tundi</p><p>	<strong>Koolitus toimub: </strong>16.august 2023</p><p>	<strong>Koolituse läbinud õppija:</strong></p><ul>	<li>		Küpsetab magusaid ja soolaseid kringleid</li></ul><p>	Koolitaja: Ene Seer, praktik, kogemustega pagar. Olustvere TK pagaritoodete tehnoloogia õpetaja</p><p>	Koolituse täpsema õppekava leiad <a href="/sites/olustvere.edu.ee/files/oppekava_magusad_ja_soolased_kringlid.doc">SIIT</a></p><p>	Koolitusele saad registreerida <a href="https://docs.google.com/forms/d/10mr2U8IYqciporktnLJqZbj_qPZIbSTfEO0zHDwJ0iI/">SIIN</a></p><p>	<strong>Koolituse maksumus: </strong>45 eurot</p><p><strong>Link: </strong>https://olustvere.edu.ee/et/sundmuste-kalender/tasuline-koolitus-magusad-ja-soolased-kringlid</p><p><strong>Hind: </strong></p>
STATUS:CONFIRMED
SEQUENCE:3
X-ALT-DESC;FMTTYPE=text/html:<p>	<strong>Tasuline koolitus: Magusad ja soolased kringlid</strong></p><p>	<strong>Koolituse pikkus: </strong>8 tundi</p><p>	<strong>Koolitus toimub: </strong>16.august 2023</p><p>	<strong>Koolituse läbinud õppija:</strong></p><ul>	<li>		Küpsetab magusaid ja soolaseid kringleid</li></ul><p>	Koolitaja: Ene Seer, praktik, kogemustega pagar. Olustvere TK pagaritoodete tehnoloogia õpetaja</p><p>	Koolituse täpsema õppekava leiad <a href="/sites/olustvere.edu.ee/files/oppekava_magusad_ja_soolased_kringlid.doc">SIIT</a></p><p>	Koolitusele saad registreerida <a href="https://docs.google.com/forms/d/10mr2U8IYqciporktnLJqZbj_qPZIbSTfEO0zHDwJ0iI/">SIIN</a></p><p>	<strong>Koolituse maksumus: </strong>45 eurot</p><p><strong>Link: </strong>https://olustvere.edu.ee/et/sundmuste-kalender/tasuline-koolitus-magusad-ja-soolased-kringlid</p><p><strong>Hind: </strong></p>
X-MICROSOFT-CDO-BUSYSTATUS:OOF
X-MICROSOFT-CDO-IMPORTANCE:1
X-MICROSOFT-DISALLOW-COUNTER:FALSE
X-MS-OLK-ALLOWEXTERNCHECK:TRUE
X-MS-OLK-CONFTYPE:0
X-MICROSOFT-CDO-ALLDAYEVENT:
X-MICROSOFT-MSNCALENDAR-ALLDAYEVENT:
END:VEVENT
END:VCALENDAR