BEGIN:VCALENDAR
PRODID:-//Microsoft Corporation//Outlook 12.0 MIMEDIR//EN
VERSION:2.0
CALSCALE:GREGORIAN
BEGIN:VEVENT
UID: 5d364992-8c73-4620-83b5-01b7b97b5ca6
SUMMARY:RKT koolitus Põllumajandusettevõtte raamatupidamine pilvetarkvaraga Merit
DTSTAMP:20211230T000000
DTSTART:20211230T000000
DTEND:20211230T080200
LOCATION:
DESCRIPTION: <p>	<strong>Riikliku koolitustellimuse koolitus Põllumajandusettevõtte raamatupidamine pilvetarkvaraga Merit </strong></p><p>	<strong>Koolituse pikkus:</strong> 32 tundi</p><p>	<strong>Koolitus toimub:</strong> 19.aprill, 20.aprill, 23.aprill, 26.aprill ja 27.aprill 2022</p><p>	<strong>Koolituse läbinud õppija:</strong></p><p>	● korraldab ettevõtte raamatupidamise majandustarkvaras lähtudes õigusaktidest;</p><p>	● jälgib maksukohustuste täitmist.</p><p>	● oskab kasutada e-arvetega seotud digikeskkondade võimalusi.</p><p>	● oskab kasutada erinevaid riiklikke e-keskkondasid (e-maksuamet, Haigekassa e-teenused, Statistikaameti eSTAT, e-äriregister jt ).</p><p>	<strong>Koolitajad:</strong></p><p>	<strong>Ene Raba – </strong>Agrosilva AS pearaamatupidaja, Olustvere TMK raamatupidamisainete õpetaja;</p><p>	omab Kutseõpetaja, tase 7 kutset</p><p>	<strong>Liivi Hansen</strong> – Anija Vallavalitsuse finantsjuht, füüsilisest isikust ettevõtja, Olustvere TMK raamatupidamisainete õpetaja;&nbsp; omab Raamatupidaja, tase 6 kutset.</p><p>	<strong>Heli Paltser</strong> – Itam OÜ juhatuse liige, Olustvere TMK raamatupidamisainete õpetaja.</p><p>	Koolituse täpsema õppekava leiad <a href="/sites/olustvere.edu.ee/files/pollumajandusettevotte_raamatupidamine_pilvetarkvaraga_merit_0.docx">SIIT</a></p><p>	Koolituse ajakava leiad <a href="/sites/olustvere.edu.ee/files/2022_ajakava_pollumajandusettevotte_raamatupidamine_pilvetarkvaraga_merit_1.docx">SIIT</a></p><p>	Koolitusele saad registreerida <a href="https://docs.google.com/forms/d/1KTb7z-IpA2pAkRxeJsmXDoV23-k0LKhDbhs43fUPGL0/">SIIN</a></p><div class="pilt-class">	  Koolituse läbiviimist toetavad Euroopa Liidu Sotsiaalfond ning Haridus- ja Teadusministeerium ning see on osalejatele TASUTA</div><p><strong>Link: </strong>https://olustvere.edu.ee/et/sundmuste-kalender/rkt-koolitus-pollumajandusettevotte-raamatupidamine-pilvetarkvaraga-merit</p><p><strong>Hind: </strong></p>
STATUS:CONFIRMED
SEQUENCE:3
X-ALT-DESC;FMTTYPE=text/html:<p>	<strong>Riikliku koolitustellimuse koolitus Põllumajandusettevõtte raamatupidamine pilvetarkvaraga Merit </strong></p><p>	<strong>Koolituse pikkus:</strong> 32 tundi</p><p>	<strong>Koolitus toimub:</strong> 19.aprill, 20.aprill, 23.aprill, 26.aprill ja 27.aprill 2022</p><p>	<strong>Koolituse läbinud õppija:</strong></p><p>	● korraldab ettevõtte raamatupidamise majandustarkvaras lähtudes õigusaktidest;</p><p>	● jälgib maksukohustuste täitmist.</p><p>	● oskab kasutada e-arvetega seotud digikeskkondade võimalusi.</p><p>	● oskab kasutada erinevaid riiklikke e-keskkondasid (e-maksuamet, Haigekassa e-teenused, Statistikaameti eSTAT, e-äriregister jt ).</p><p>	<strong>Koolitajad:</strong></p><p>	<strong>Ene Raba – </strong>Agrosilva AS pearaamatupidaja, Olustvere TMK raamatupidamisainete õpetaja;</p><p>	omab Kutseõpetaja, tase 7 kutset</p><p>	<strong>Liivi Hansen</strong> – Anija Vallavalitsuse finantsjuht, füüsilisest isikust ettevõtja, Olustvere TMK raamatupidamisainete õpetaja;&nbsp; omab Raamatupidaja, tase 6 kutset.</p><p>	<strong>Heli Paltser</strong> – Itam OÜ juhatuse liige, Olustvere TMK raamatupidamisainete õpetaja.</p><p>	Koolituse täpsema õppekava leiad <a href="/sites/olustvere.edu.ee/files/pollumajandusettevotte_raamatupidamine_pilvetarkvaraga_merit_0.docx">SIIT</a></p><p>	Koolituse ajakava leiad <a href="/sites/olustvere.edu.ee/files/2022_ajakava_pollumajandusettevotte_raamatupidamine_pilvetarkvaraga_merit_1.docx">SIIT</a></p><p>	Koolitusele saad registreerida <a href="https://docs.google.com/forms/d/1KTb7z-IpA2pAkRxeJsmXDoV23-k0LKhDbhs43fUPGL0/">SIIN</a></p><div class="pilt-class">	  Koolituse läbiviimist toetavad Euroopa Liidu Sotsiaalfond ning Haridus- ja Teadusministeerium ning see on osalejatele TASUTA</div><p><strong>Link: </strong>https://olustvere.edu.ee/et/sundmuste-kalender/rkt-koolitus-pollumajandusettevotte-raamatupidamine-pilvetarkvaraga-merit</p><p><strong>Hind: </strong></p>
X-MICROSOFT-CDO-BUSYSTATUS:OOF
X-MICROSOFT-CDO-IMPORTANCE:1
X-MICROSOFT-DISALLOW-COUNTER:FALSE
X-MS-OLK-ALLOWEXTERNCHECK:TRUE
X-MS-OLK-CONFTYPE:0
X-MICROSOFT-CDO-ALLDAYEVENT:
X-MICROSOFT-MSNCALENDAR-ALLDAYEVENT:
END:VEVENT
END:VCALENDAR