BEGIN:VCALENDAR
PRODID:-//Microsoft Corporation//Outlook 12.0 MIMEDIR//EN
VERSION:2.0
CALSCALE:GREGORIAN
BEGIN:VEVENT
UID: e4db055f-b36d-46e6-85a7-015e6d7c1599
SUMMARY:Riikliku koolitustellimuse koolitus Mesilasemade kasvatamise koolitus
DTSTAMP:20200627
DTSTART:20200627
DTEND:20200628
DURATION:P1D
LOCATION:Olustvere meekoda
DESCRIPTION: <p>	<strong>Riikliku koolitustellimuse koolitus Mesilasemade kasvatamise koolitus</strong></p><p>	<strong>Koolituse pikkus:</strong> 40 tundi</p><p>	Koolituse ajakava leiad <a href="/sites/olustvere.edu.ee/files/mesilasemade_kasvatamise_koolituse_ajakava_0.docx">SIIT</a></p><p>	<strong>Koolituse läbinud õppija:</strong></p><ol>	<li>		Oskab tagada mesilaspere järelkasvu</li></ol><p>	Koolituse õppekava leiad <a href="/sites/olustvere.edu.ee/files/mesilasemade_kasvatus.docx">SIIT</a></p><p>	Koolitusele saad registreerida <a href="https://docs.google.com/forms/d/1HIEG3kDiS3AM1GdhdndVchXz9RsMtWGnsZkB83ej75U/">SIIN</a></p><p>	Koolitust toetab Euroopa Liidu Sotsiaalfond ning Haridus- ja Teadusministeerium ning see on osalejatele TASUTA</p><p><strong>Link: </strong>https://olustvere.edu.ee/et/sundmuste-kalender/riikliku-koolitustellimuse-koolitus-mesilasemade-kasvatamise-koolitus</p><p><strong>Hind: </strong></p>
STATUS:CONFIRMED
SEQUENCE:3
X-ALT-DESC;FMTTYPE=text/html:<p>	<strong>Riikliku koolitustellimuse koolitus Mesilasemade kasvatamise koolitus</strong></p><p>	<strong>Koolituse pikkus:</strong> 40 tundi</p><p>	Koolituse ajakava leiad <a href="/sites/olustvere.edu.ee/files/mesilasemade_kasvatamise_koolituse_ajakava_0.docx">SIIT</a></p><p>	<strong>Koolituse läbinud õppija:</strong></p><ol>	<li>		Oskab tagada mesilaspere järelkasvu</li></ol><p>	Koolituse õppekava leiad <a href="/sites/olustvere.edu.ee/files/mesilasemade_kasvatus.docx">SIIT</a></p><p>	Koolitusele saad registreerida <a href="https://docs.google.com/forms/d/1HIEG3kDiS3AM1GdhdndVchXz9RsMtWGnsZkB83ej75U/">SIIN</a></p><p>	Koolitust toetab Euroopa Liidu Sotsiaalfond ning Haridus- ja Teadusministeerium ning see on osalejatele TASUTA</p><p><strong>Link: </strong>https://olustvere.edu.ee/et/sundmuste-kalender/riikliku-koolitustellimuse-koolitus-mesilasemade-kasvatamise-koolitus</p><p><strong>Hind: </strong></p>
X-MICROSOFT-CDO-BUSYSTATUS:OOF
X-MICROSOFT-CDO-IMPORTANCE:1
X-MICROSOFT-DISALLOW-COUNTER:FALSE
X-MS-OLK-ALLOWEXTERNCHECK:TRUE
X-MS-OLK-CONFTYPE:0
X-MICROSOFT-CDO-ALLDAYEVENT:1
X-MICROSOFT-MSNCALENDAR-ALLDAYEVENT:1
END:VEVENT
END:VCALENDAR