BEGIN:VCALENDAR
PRODID:-//Microsoft Corporation//Outlook 12.0 MIMEDIR//EN
VERSION:2.0
CALSCALE:GREGORIAN
BEGIN:VEVENT
UID: 250ecb12-5060-4fa3-940f-ff9734406cf6
SUMMARY:PIP loomakasvatusprogrammi koolitus Silo tootmine väikemäletsejatele
DTSTAMP:20200213
DTSTART:20200213
DTEND:20200214
DURATION:P1D
LOCATION:Olustvere TMK õppehoone
DESCRIPTION: <p>	<strong>PIP loomakasvatusprogrammi koolitus Silo tootmine väikemäletsejatele</strong></p><p>	<strong>Koolitus on osalejatele TASUTA</strong></p><p>	<strong>Koolituse pikkus: </strong>8 tundi</p><p>	<strong>Koolituse kuupäeva: </strong>13.veebruar 2020</p><p>	<strong>Koolituse läbinud õppija:</strong></p><ul>	<li>		Rakendab sobivaid silo valmistamise tehnoloogiad</li>	<li>		Tunneb silo kvaliteedinäitajaid</li>	<li>		Teostab heintaimede valikut lähtuvalt mullaomadustest ja rohumaa kasutusotstarbest</li>	<li>		Rajab, hooldab ja kasutab rohumaid arvestades heintaimede kasvunõudeid</li>	<li>		Korraldab rohumaade kasutust</li>	<li>		Rakendab rohumaade saagikuse parandmise võtteid</li>	<li>		Teostab rohumaade saagiarvestust</li></ul><p>	Koolituse täpsema õppekava leiad <a href="/sites/olustvere.edu.ee/files/oppekava_silo_tootmine.doc">SIIT</a></p><p>	Koolitusele saad registreerida <a href="https://docs.google.com/forms/d/1bZYujy2TneHdGNufG0vAxgTcfKjuCqaYvDcmDbAbasU/">SIIN</a></p><p>	&nbsp;</p><p><strong>Link: </strong>https://olustvere.edu.ee/et/sundmuste-kalender/pip-loomakasvatusprogrammi-koolitus-silo-tootmine-vaikemaletsejatele</p><p><strong>Hind: </strong></p>
STATUS:CONFIRMED
SEQUENCE:3
X-ALT-DESC;FMTTYPE=text/html:<p>	<strong>PIP loomakasvatusprogrammi koolitus Silo tootmine väikemäletsejatele</strong></p><p>	<strong>Koolitus on osalejatele TASUTA</strong></p><p>	<strong>Koolituse pikkus: </strong>8 tundi</p><p>	<strong>Koolituse kuupäeva: </strong>13.veebruar 2020</p><p>	<strong>Koolituse läbinud õppija:</strong></p><ul>	<li>		Rakendab sobivaid silo valmistamise tehnoloogiad</li>	<li>		Tunneb silo kvaliteedinäitajaid</li>	<li>		Teostab heintaimede valikut lähtuvalt mullaomadustest ja rohumaa kasutusotstarbest</li>	<li>		Rajab, hooldab ja kasutab rohumaid arvestades heintaimede kasvunõudeid</li>	<li>		Korraldab rohumaade kasutust</li>	<li>		Rakendab rohumaade saagikuse parandmise võtteid</li>	<li>		Teostab rohumaade saagiarvestust</li></ul><p>	Koolituse täpsema õppekava leiad <a href="/sites/olustvere.edu.ee/files/oppekava_silo_tootmine.doc">SIIT</a></p><p>	Koolitusele saad registreerida <a href="https://docs.google.com/forms/d/1bZYujy2TneHdGNufG0vAxgTcfKjuCqaYvDcmDbAbasU/">SIIN</a></p><p>	&nbsp;</p><p><strong>Link: </strong>https://olustvere.edu.ee/et/sundmuste-kalender/pip-loomakasvatusprogrammi-koolitus-silo-tootmine-vaikemaletsejatele</p><p><strong>Hind: </strong></p>
X-MICROSOFT-CDO-BUSYSTATUS:OOF
X-MICROSOFT-CDO-IMPORTANCE:1
X-MICROSOFT-DISALLOW-COUNTER:FALSE
X-MS-OLK-ALLOWEXTERNCHECK:TRUE
X-MS-OLK-CONFTYPE:0
X-MICROSOFT-CDO-ALLDAYEVENT:1
X-MICROSOFT-MSNCALENDAR-ALLDAYEVENT:1
END:VEVENT
END:VCALENDAR