BEGIN:VCALENDAR
PRODID:-//Microsoft Corporation//Outlook 12.0 MIMEDIR//EN
VERSION:2.0
CALSCALE:GREGORIAN
BEGIN:VEVENT
UID: 0c224fac-9ee4-4425-9330-8fa271ef4f8a
SUMMARY:Täienduskoolitus kondiitritele - Pavlova, beseerull ja teised tooted õhulisest taignast
DTSTAMP:20191002
DTSTART:20191002
DTEND:20191010
DURATION:P8D
LOCATION:Olustvere TMK õppetööstus
DESCRIPTION: <p>	<strong>Riikliku koolitustellimuse koolitus: Täienduskoolitus kondiitritele - Pavlova, beseerull ja teised tooted õhulisest taignast</strong></p><p>	<strong>Koolitus on osalejale tasuta</strong></p><p>	<strong>Koolituse kuupäevad: </strong>2.oktoober ja 9.oktoober</p><p>	<strong>Koolituse pikkus</strong>: 20 tundi</p><p>	Koolituse eesmärk on võimaldada õppijal omandada teadmised ja oskused õhulise taigna (ehk besee) ja sellest toodete valmistamiseks.</p><p>	<strong>Õpingud läbinud õppija:</strong></p><ul>	<li>		mõistab õhulise taigna füüsikalis-keemilisi ja tehnoloogilisi omadusi ning nende arvestamist toodete valmistamisel;</li>	<li>		jälgib toodete valmistamisel toiduohutuse toiduhügieeni nõudeid ning tööohutust;</li>	<li>		valmistab õhulisest taignast erinevait tooteid, kasutades erinevaid meetodeid arvestades toiduohutust;</li>	<li>		valmistab erinevaid kreeme, täidiseid, glasuure, kompositsioone ja kaunistamisi</li></ul><p>	Täpsema õppekava leiab <a href="/sites/olustvere.edu.ee/files/taienduskoolitus_kondiitritele_-_pavlova_beseerull_ja_teised_tooted_ohulisest_taignast.docx">SIIT</a></p><p>	<strong>Koolitaja</strong>: Urmas Jalakas</p><p>	Koolitusele registreeri <a href="https://docs.google.com/forms/d/13utKTjhRHe2jBMrlNyO0PN3vLxJUxCTGFcqmNmNQAg8/">SIIN</a></p><div class="pilt-class">	 </div><div class="pilt-class">	 </div><p>	Täpsem info: e-post: koolitus@olustvere.edu.ee või telefonil 4374234</p><ul></ul><p><strong>Link: </strong>https://olustvere.edu.ee/et/sundmuste-kalender/taienduskoolitus-kondiitritele-pavlova-beseerull-ja-teised-tooted-ohulisest-taignast</p><p><strong>Hind: </strong></p>
STATUS:CONFIRMED
SEQUENCE:3
X-ALT-DESC;FMTTYPE=text/html:<p>	<strong>Riikliku koolitustellimuse koolitus: Täienduskoolitus kondiitritele - Pavlova, beseerull ja teised tooted õhulisest taignast</strong></p><p>	<strong>Koolitus on osalejale tasuta</strong></p><p>	<strong>Koolituse kuupäevad: </strong>2.oktoober ja 9.oktoober</p><p>	<strong>Koolituse pikkus</strong>: 20 tundi</p><p>	Koolituse eesmärk on võimaldada õppijal omandada teadmised ja oskused õhulise taigna (ehk besee) ja sellest toodete valmistamiseks.</p><p>	<strong>Õpingud läbinud õppija:</strong></p><ul>	<li>		mõistab õhulise taigna füüsikalis-keemilisi ja tehnoloogilisi omadusi ning nende arvestamist toodete valmistamisel;</li>	<li>		jälgib toodete valmistamisel toiduohutuse toiduhügieeni nõudeid ning tööohutust;</li>	<li>		valmistab õhulisest taignast erinevait tooteid, kasutades erinevaid meetodeid arvestades toiduohutust;</li>	<li>		valmistab erinevaid kreeme, täidiseid, glasuure, kompositsioone ja kaunistamisi</li></ul><p>	Täpsema õppekava leiab <a href="/sites/olustvere.edu.ee/files/taienduskoolitus_kondiitritele_-_pavlova_beseerull_ja_teised_tooted_ohulisest_taignast.docx">SIIT</a></p><p>	<strong>Koolitaja</strong>: Urmas Jalakas</p><p>	Koolitusele registreeri <a href="https://docs.google.com/forms/d/13utKTjhRHe2jBMrlNyO0PN3vLxJUxCTGFcqmNmNQAg8/">SIIN</a></p><div class="pilt-class">	 </div><div class="pilt-class">	 </div><p>	Täpsem info: e-post: koolitus@olustvere.edu.ee või telefonil 4374234</p><ul></ul><p><strong>Link: </strong>https://olustvere.edu.ee/et/sundmuste-kalender/taienduskoolitus-kondiitritele-pavlova-beseerull-ja-teised-tooted-ohulisest-taignast</p><p><strong>Hind: </strong></p>
X-MICROSOFT-CDO-BUSYSTATUS:OOF
X-MICROSOFT-CDO-IMPORTANCE:1
X-MICROSOFT-DISALLOW-COUNTER:FALSE
X-MS-OLK-ALLOWEXTERNCHECK:TRUE
X-MS-OLK-CONFTYPE:0
X-MICROSOFT-CDO-ALLDAYEVENT:1
X-MICROSOFT-MSNCALENDAR-ALLDAYEVENT:1
END:VEVENT
END:VCALENDAR