BEGIN:VCALENDAR
PRODID:-//Microsoft Corporation//Outlook 12.0 MIMEDIR//EN
VERSION:2.0
CALSCALE:GREGORIAN
BEGIN:VEVENT
UID: a52c1d26-4dbe-45ad-b946-63f11386c90f
SUMMARY:JÕULUSÄRAS OLUSTVERE
DTSTAMP:20241213T130000
DTSTART:20241213T130000
DTEND:20241214T190000
LOCATION:Olustvere mõis
DESCRIPTION: <div class="clearfix pt-30 pb-30"><div class="xdj266r x11i5rnm xat24cr x1mh8g0r x1vvkbs">13. detsember kell 13.00-19.00</div><div class="xdj266r x11i5rnm xat24cr x1mh8g0r x1vvkbs">14. detsember kell 10.00-19.00</div><div class="x11i5rnm xat24cr x1mh8g0r x1vvkbs xtlvy1s">&nbsp;</div><div class="x11i5rnm xat24cr x1mh8g0r x1vvkbs xtlvy1s">Jõulutoitude müük:</div><div class="x11i5rnm xat24cr x1mh8g0r x1vvkbs xtlvy1s">- &nbsp;piima-, liha- kala-, pagari- ja meetooted</div><div class="x11i5rnm xat24cr x1mh8g0r x1vvkbs xtlvy1s">- &nbsp;erinevad napsid, hoidised, pähklid, krõpsud jm</div><div class="x11i5rnm xat24cr x1mh8g0r x1vvkbs xtlvy1s">Käsitöö</div><div class="x11i5rnm xat24cr x1mh8g0r x1vvkbs xtlvy1s">Erinevad tasuta tegevused lastele ja täiskasvanutele:<br>- multifilmikelder, saanisõit, kalapüük, õnne valamine</div><div class="x11i5rnm xat24cr x1mh8g0r x1vvkbs xtlvy1s">- puutöötuba lastele, jõulukaunistuste valmistamine</div><div class="x11i5rnm xat24cr x1mh8g0r x1vvkbs xtlvy1s">&nbsp;</div><div class="x11i5rnm xat24cr x1mh8g0r x1vvkbs xtlvy1s">Eelneva registreerimisega tasulised tegevused/töötoad (kohtade arv piiratud):<br><strong>Klaasvaasi puhumine (grupis max 6 inimest, igale inimesele ca 10 min) - 20 €/in</strong><br>R: kell 13, 14, 15, 16, 17 ja 18<br>L: kell 13, 14, 15, 16, 17 ja 18<br>*Puhutud eseme saab kätte alates 16. detsembrist klaasi- ja keraamikakojast.<br>Info ja registreerimine: klaas@olustveremois.ee, 5091710</div><div class="x11i5rnm xat24cr x1mh8g0r x1vvkbs xtlvy1s">&nbsp;</div><div class="x11i5rnm xat24cr x1mh8g0r x1vvkbs xtlvy1s"><strong>Keraamilise küünlalaterna valmistamine (kestvus 1,5h, grupis max 14 inimest) - 20 €/in</strong><br>R: kell 13, 15 ja 17<br>L: kell 11, 13, 15 ja 17<br>*Küünlalaterna saab kätte jaanuaris, kui ese on kuivanud, põletatud ja glasuuritud.<br>Info ja registreerimine: keraamika@olustveremois.ee, 5070963</div><div class="x11i5rnm xat24cr x1mh8g0r x1vvkbs xtlvy1s">&nbsp;</div><div class="x11i5rnm xat24cr x1mh8g0r x1vvkbs xtlvy1s"><strong>Müügikohtade külastamisel kogu templeid, sest müügikohtade</strong><br><strong>külastajate vahel loositakse välja JÕULUTEEMALINE TOIDUKORV!</strong><br>&nbsp;</div><div class="x11i5rnm xat24cr x1mh8g0r x1vvkbs xtlvy1s">Meeleolu aitavad luua päkapikud, jõuluvanad, kohvikud, tulesära ja jõulumuusika!</div><div class="x11i5rnm xat24cr x1mh8g0r x1vvkbs xtlvy1s">&nbsp;</div><div class="x11i5rnm xat24cr x1mh8g0r x1vvkbs xtlvy1s">KOHTUME OLUSTVERES!</div><div class="x11i5rnm xat24cr x1mh8g0r x1vvkbs xtlvy1s">Info: kool@olustvere.edu.ee<br>437 4290</div></div><p><strong>Link: </strong>https://olustvere.edu.ee/et/sundmuste-kalender/joulusaras-olustvere-0</p><p><strong>Hind: </strong></p>
STATUS:CONFIRMED
SEQUENCE:3
X-ALT-DESC;FMTTYPE=text/html:<div class="clearfix pt-30 pb-30"><div class="xdj266r x11i5rnm xat24cr x1mh8g0r x1vvkbs">13. detsember kell 13.00-19.00</div><div class="xdj266r x11i5rnm xat24cr x1mh8g0r x1vvkbs">14. detsember kell 10.00-19.00</div><div class="x11i5rnm xat24cr x1mh8g0r x1vvkbs xtlvy1s">&nbsp;</div><div class="x11i5rnm xat24cr x1mh8g0r x1vvkbs xtlvy1s">Jõulutoitude müük:</div><div class="x11i5rnm xat24cr x1mh8g0r x1vvkbs xtlvy1s">- &nbsp;piima-, liha- kala-, pagari- ja meetooted</div><div class="x11i5rnm xat24cr x1mh8g0r x1vvkbs xtlvy1s">- &nbsp;erinevad napsid, hoidised, pähklid, krõpsud jm</div><div class="x11i5rnm xat24cr x1mh8g0r x1vvkbs xtlvy1s">Käsitöö</div><div class="x11i5rnm xat24cr x1mh8g0r x1vvkbs xtlvy1s">Erinevad tasuta tegevused lastele ja täiskasvanutele:<br>- multifilmikelder, saanisõit, kalapüük, õnne valamine</div><div class="x11i5rnm xat24cr x1mh8g0r x1vvkbs xtlvy1s">- puutöötuba lastele, jõulukaunistuste valmistamine</div><div class="x11i5rnm xat24cr x1mh8g0r x1vvkbs xtlvy1s">&nbsp;</div><div class="x11i5rnm xat24cr x1mh8g0r x1vvkbs xtlvy1s">Eelneva registreerimisega tasulised tegevused/töötoad (kohtade arv piiratud):<br><strong>Klaasvaasi puhumine (grupis max 6 inimest, igale inimesele ca 10 min) - 20 €/in</strong><br>R: kell 13, 14, 15, 16, 17 ja 18<br>L: kell 13, 14, 15, 16, 17 ja 18<br>*Puhutud eseme saab kätte alates 16. detsembrist klaasi- ja keraamikakojast.<br>Info ja registreerimine: klaas@olustveremois.ee, 5091710</div><div class="x11i5rnm xat24cr x1mh8g0r x1vvkbs xtlvy1s">&nbsp;</div><div class="x11i5rnm xat24cr x1mh8g0r x1vvkbs xtlvy1s"><strong>Keraamilise küünlalaterna valmistamine (kestvus 1,5h, grupis max 14 inimest) - 20 €/in</strong><br>R: kell 13, 15 ja 17<br>L: kell 11, 13, 15 ja 17<br>*Küünlalaterna saab kätte jaanuaris, kui ese on kuivanud, põletatud ja glasuuritud.<br>Info ja registreerimine: keraamika@olustveremois.ee, 5070963</div><div class="x11i5rnm xat24cr x1mh8g0r x1vvkbs xtlvy1s">&nbsp;</div><div class="x11i5rnm xat24cr x1mh8g0r x1vvkbs xtlvy1s"><strong>Müügikohtade külastamisel kogu templeid, sest müügikohtade</strong><br><strong>külastajate vahel loositakse välja JÕULUTEEMALINE TOIDUKORV!</strong><br>&nbsp;</div><div class="x11i5rnm xat24cr x1mh8g0r x1vvkbs xtlvy1s">Meeleolu aitavad luua päkapikud, jõuluvanad, kohvikud, tulesära ja jõulumuusika!</div><div class="x11i5rnm xat24cr x1mh8g0r x1vvkbs xtlvy1s">&nbsp;</div><div class="x11i5rnm xat24cr x1mh8g0r x1vvkbs xtlvy1s">KOHTUME OLUSTVERES!</div><div class="x11i5rnm xat24cr x1mh8g0r x1vvkbs xtlvy1s">Info: kool@olustvere.edu.ee<br>437 4290</div></div><p><strong>Link: </strong>https://olustvere.edu.ee/et/sundmuste-kalender/joulusaras-olustvere-0</p><p><strong>Hind: </strong></p>
X-MICROSOFT-CDO-BUSYSTATUS:OOF
X-MICROSOFT-CDO-IMPORTANCE:1
X-MICROSOFT-DISALLOW-COUNTER:FALSE
X-MS-OLK-ALLOWEXTERNCHECK:TRUE
X-MS-OLK-CONFTYPE:0
X-MICROSOFT-CDO-ALLDAYEVENT:
X-MICROSOFT-MSNCALENDAR-ALLDAYEVENT:
END:VEVENT
END:VCALENDAR