BEGIN:VCALENDAR
PRODID:-//Microsoft Corporation//Outlook 12.0 MIMEDIR//EN
VERSION:2.0
CALSCALE:GREGORIAN
BEGIN:VEVENT
UID: 7954933a-8fde-414a-8b10-29c8af0d17c3
SUMMARY:Tasuline koolitus: Aiakujunduse ABC
DTSTAMP:20250926
DTSTART:20250926
DTEND:20260516
DURATION:P232D
LOCATION:Olustvere
DESCRIPTION: <p><strong>Tasuline koolitus: &nbsp;Aiakujunduse ABC</strong></p><p><strong>Koolituse pikkus:</strong> 54 tundi</p><p>Koolituse ajakava leiad <a href="https://www.olustvere.edu.ee/sites/olustvere.edu.ee/files/2025-06/25%2026%20Aiakujunduse%20ABC.pdf">SIIT</a></p><p>Lisainfo: koolitus@olustvere.edu.ee</p><p>Koolituse läbinud õppija:</p><ul type="disc"><li><span>Kannab asendiplaanile kliendi- ja objektikeskset lähteülesannet</span></li><li><span>Liigendab istutusalasid</span></li><li><span>Koostab istutusmustreid</span></li><li><span>Vormistab haljastusplaani</span></li><li><span>Koostab sidumisjoonist</span></li></ul><p><strong>Koolitaja:</strong> &nbsp;<span lang="EN-GB" dir="ltr"><strong>Reti Randoja-Muts –&nbsp;</strong>Olustvere Teenindus- ja Maamajanduskooli aianduse õpetaja, praktik</span></p><p>Koolituse täpsema õppekava leiad<a href="https://www.olustvere.edu.ee/sites/olustvere.edu.ee/files/2024-08/%C3%95ppekava_Aiakujundamise%20ABC.pdf"> SIIT</a></p><p>Koolitusele saad registreerida <a href="https://docs.google.com/forms/d/1dAxiAGpgS1zsatTUM3CASuNFzMEnGAoNUdMoYdnm2Mo/">SIIN</a></p><p><strong>Link: </strong>https://olustvere.edu.ee/et/koolituste-kalender/tasuline-koolitus-aiakujunduse-abc</p><p><strong>Hind: </strong>300</p>
STATUS:CONFIRMED
SEQUENCE:3
X-ALT-DESC;FMTTYPE=text/html:<p><strong>Tasuline koolitus: &nbsp;Aiakujunduse ABC</strong></p><p><strong>Koolituse pikkus:</strong> 54 tundi</p><p>Koolituse ajakava leiad <a href="https://www.olustvere.edu.ee/sites/olustvere.edu.ee/files/2025-06/25%2026%20Aiakujunduse%20ABC.pdf">SIIT</a></p><p>Lisainfo: koolitus@olustvere.edu.ee</p><p>Koolituse läbinud õppija:</p><ul type="disc"><li><span>Kannab asendiplaanile kliendi- ja objektikeskset lähteülesannet</span></li><li><span>Liigendab istutusalasid</span></li><li><span>Koostab istutusmustreid</span></li><li><span>Vormistab haljastusplaani</span></li><li><span>Koostab sidumisjoonist</span></li></ul><p><strong>Koolitaja:</strong> &nbsp;<span lang="EN-GB" dir="ltr"><strong>Reti Randoja-Muts –&nbsp;</strong>Olustvere Teenindus- ja Maamajanduskooli aianduse õpetaja, praktik</span></p><p>Koolituse täpsema õppekava leiad<a href="https://www.olustvere.edu.ee/sites/olustvere.edu.ee/files/2024-08/%C3%95ppekava_Aiakujundamise%20ABC.pdf"> SIIT</a></p><p>Koolitusele saad registreerida <a href="https://docs.google.com/forms/d/1dAxiAGpgS1zsatTUM3CASuNFzMEnGAoNUdMoYdnm2Mo/">SIIN</a></p><p><strong>Link: </strong>https://olustvere.edu.ee/et/koolituste-kalender/tasuline-koolitus-aiakujunduse-abc</p><p><strong>Hind: </strong>300</p>
X-MICROSOFT-CDO-BUSYSTATUS:OOF
X-MICROSOFT-CDO-IMPORTANCE:1
X-MICROSOFT-DISALLOW-COUNTER:FALSE
X-MS-OLK-ALLOWEXTERNCHECK:TRUE
X-MS-OLK-CONFTYPE:0
X-MICROSOFT-CDO-ALLDAYEVENT:1
X-MICROSOFT-MSNCALENDAR-ALLDAYEVENT:1
END:VEVENT
END:VCALENDAR