BEGIN:VCALENDAR
PRODID:-//Microsoft Corporation//Outlook 12.0 MIMEDIR//EN
VERSION:2.0
CALSCALE:GREGORIAN
BEGIN:VEVENT
UID: 1782fdfc-01a6-48d9-9208-91e73593bca4
SUMMARY:ESF VÕTI programmi koolitus: Masintikkimise programm Premier+ Embroidery System algõpe
DTSTAMP:20240812
DTSTART:20240812
DTEND:20241011
DURATION:P60D
LOCATION:OLustvere
DESCRIPTION: <p><strong>ESF VÕTI programmi koolitus: Masintikkimise programm Premier+ Embroidery System algõpe</strong></p><p><strong>Koolituse pikkus: </strong>40 kontakttundi</p><p><strong>Koolitus toimub: </strong>12.august, 27.august, 10.september, 25.september, 10.oktoober 2024</p><p><strong>Koolituse läbinud õppija:</strong></p><ul><li><span>koostab tikandeid kasutades programmiga Premier+ Embroidery System kaasas olevaid tikandeid;</span></li><li><span>muudab, kohandab ja impordib valmisolevaid tikandeid vastavalt vajadusele ja soovile;</span></li><li><span>loob uusi tikandeid;</span></li><li><span>avab ja salvestab tikandeid;</span></li><li><span>kopeerib tikandeid ja selle osi;</span></li><li><span>muudab tikandites kasutatavaid niidivärve;</span></li><li><span>muudab erinevate programmiosade seadeid;</span></li><li><span>prindib välja valminud tikandite töölehti;</span></li><li>teab ja kasutab masintikkimise materjale ja töövahendeid; valmistab ette töökoha, kontrollib tikkimismasina ja selle abivahendite korrasolekut ja seab need töökorda;</li><li>seadistab juhendi alusel tikkimismasina vastavalt esemele mustrile, kasutab tööks vajalikke abivahendeid ja –materjale;</li><li>kasutab tikkimismasina erifunktsioone;</li><li>tikib masinaga tehnoloogiliselt õigesti, kasutab tikandi keeramist, nihutamist, peegeldamist, muudab tikandi suurust;</li><li>visandab ja kavandab<span>&nbsp; </span>tikandiga kaunistatud eseme, koostab kavandi või tööjoonise, valib kavandi alusel sobiva tikkimistehnika ning teeb<span>&nbsp; </span>vajalikud eeltööd;</li><li>digitaliseerib oma kavandi kasutades spetsiaalset masintikkimise programmi nt. Premier+ Embroidery System;</li><li><span>tikib&nbsp; kavandi või mustrijoonise alusel tikkimismasinaga&nbsp;erinevaid tikandeid, valib vastavalt materjalile sobiva tikandi, arvestades kvaliteedinõuetega;</span></li><li>viimistleb ja hooldab masintikitud esemeid, arvestades materjali iseloomu ja eseme otstarvet;</li><li>kasutab ergonoomilisi ja ohutuid töövõtteid, järgib töövahendite ja –riistade kasutamisjuhendid<span>&nbsp; </span>ning säästlikku materjali kasutamist;</li><li>kasutab masintikkimist oma tootevaliku rikastamisel ja suurendamisel.</li></ul><p><strong>Koolitaja:</strong></p><p><span><strong>Jane Suviste,</strong> lõpetanud Pärnumaa kutseharidusekeskuse kodumajanduse eriala (2000), Eesti Ettevõtluskõrgkooli disain loovettevõtluses-rõivadisaini eriala (2012).&nbsp; Tallinna Ülikool käsitöö ja kodunduse õpetaja eriala omandamisel. Omab ja töötab ettevõttes Grott OÜ, mis tegeleb erinevate õmblus ja tikkimistöödega alates 2010.a.</span></p><p><span><strong>Koolitus toimub Täiskasvanuhariduse arendamine ja mitteformaalsete õppimisvõimaluste pakkumine (programm VÕTI) raames ning see on osalejatele TASUTA</strong></span></p><p><span>Koolituse täpsema õppekava leiad </span><a href="https://www.olustvere.edu.ee/sites/olustvere.edu.ee/files/2024-07/Masintikkimise%20programm%20Premier%2B%20Embroidery%20System%20alg%C3%B5pe.pdf"><span>SIIT</span></a></p><p><span>Koolitusele saad registreerida </span><a href="https://docs.google.com/forms/d/1vTK9T78aFRowRAZUTkKJHRq84Sul5bCmYRyyHzms77k/"><span>SIIN</span></a></p><p>&nbsp;</p><p><strong>Link: </strong>https://olustvere.edu.ee/et/koolituste-kalender/esf-voti-programmi-koolitus-masintikkimise-programm-premier-embroidery-system-algope</p><p><strong>Hind: </strong>Osalejale tasuta</p>
STATUS:CONFIRMED
SEQUENCE:3
X-ALT-DESC;FMTTYPE=text/html:<p><strong>ESF VÕTI programmi koolitus: Masintikkimise programm Premier+ Embroidery System algõpe</strong></p><p><strong>Koolituse pikkus: </strong>40 kontakttundi</p><p><strong>Koolitus toimub: </strong>12.august, 27.august, 10.september, 25.september, 10.oktoober 2024</p><p><strong>Koolituse läbinud õppija:</strong></p><ul><li><span>koostab tikandeid kasutades programmiga Premier+ Embroidery System kaasas olevaid tikandeid;</span></li><li><span>muudab, kohandab ja impordib valmisolevaid tikandeid vastavalt vajadusele ja soovile;</span></li><li><span>loob uusi tikandeid;</span></li><li><span>avab ja salvestab tikandeid;</span></li><li><span>kopeerib tikandeid ja selle osi;</span></li><li><span>muudab tikandites kasutatavaid niidivärve;</span></li><li><span>muudab erinevate programmiosade seadeid;</span></li><li><span>prindib välja valminud tikandite töölehti;</span></li><li>teab ja kasutab masintikkimise materjale ja töövahendeid; valmistab ette töökoha, kontrollib tikkimismasina ja selle abivahendite korrasolekut ja seab need töökorda;</li><li>seadistab juhendi alusel tikkimismasina vastavalt esemele mustrile, kasutab tööks vajalikke abivahendeid ja –materjale;</li><li>kasutab tikkimismasina erifunktsioone;</li><li>tikib masinaga tehnoloogiliselt õigesti, kasutab tikandi keeramist, nihutamist, peegeldamist, muudab tikandi suurust;</li><li>visandab ja kavandab<span>&nbsp; </span>tikandiga kaunistatud eseme, koostab kavandi või tööjoonise, valib kavandi alusel sobiva tikkimistehnika ning teeb<span>&nbsp; </span>vajalikud eeltööd;</li><li>digitaliseerib oma kavandi kasutades spetsiaalset masintikkimise programmi nt. Premier+ Embroidery System;</li><li><span>tikib&nbsp; kavandi või mustrijoonise alusel tikkimismasinaga&nbsp;erinevaid tikandeid, valib vastavalt materjalile sobiva tikandi, arvestades kvaliteedinõuetega;</span></li><li>viimistleb ja hooldab masintikitud esemeid, arvestades materjali iseloomu ja eseme otstarvet;</li><li>kasutab ergonoomilisi ja ohutuid töövõtteid, järgib töövahendite ja –riistade kasutamisjuhendid<span>&nbsp; </span>ning säästlikku materjali kasutamist;</li><li>kasutab masintikkimist oma tootevaliku rikastamisel ja suurendamisel.</li></ul><p><strong>Koolitaja:</strong></p><p><span><strong>Jane Suviste,</strong> lõpetanud Pärnumaa kutseharidusekeskuse kodumajanduse eriala (2000), Eesti Ettevõtluskõrgkooli disain loovettevõtluses-rõivadisaini eriala (2012).&nbsp; Tallinna Ülikool käsitöö ja kodunduse õpetaja eriala omandamisel. Omab ja töötab ettevõttes Grott OÜ, mis tegeleb erinevate õmblus ja tikkimistöödega alates 2010.a.</span></p><p><span><strong>Koolitus toimub Täiskasvanuhariduse arendamine ja mitteformaalsete õppimisvõimaluste pakkumine (programm VÕTI) raames ning see on osalejatele TASUTA</strong></span></p><p><span>Koolituse täpsema õppekava leiad </span><a href="https://www.olustvere.edu.ee/sites/olustvere.edu.ee/files/2024-07/Masintikkimise%20programm%20Premier%2B%20Embroidery%20System%20alg%C3%B5pe.pdf"><span>SIIT</span></a></p><p><span>Koolitusele saad registreerida </span><a href="https://docs.google.com/forms/d/1vTK9T78aFRowRAZUTkKJHRq84Sul5bCmYRyyHzms77k/"><span>SIIN</span></a></p><p>&nbsp;</p><p><strong>Link: </strong>https://olustvere.edu.ee/et/koolituste-kalender/esf-voti-programmi-koolitus-masintikkimise-programm-premier-embroidery-system-algope</p><p><strong>Hind: </strong>Osalejale tasuta</p>
X-MICROSOFT-CDO-BUSYSTATUS:OOF
X-MICROSOFT-CDO-IMPORTANCE:1
X-MICROSOFT-DISALLOW-COUNTER:FALSE
X-MS-OLK-ALLOWEXTERNCHECK:TRUE
X-MS-OLK-CONFTYPE:0
X-MICROSOFT-CDO-ALLDAYEVENT:1
X-MICROSOFT-MSNCALENDAR-ALLDAYEVENT:1
END:VEVENT
END:VCALENDAR