BEGIN:VCALENDAR
PRODID:-//Microsoft Corporation//Outlook 12.0 MIMEDIR//EN
VERSION:2.0
CALSCALE:GREGORIAN
BEGIN:VEVENT
UID: 7d001aa1-6189-4bea-a86f-bc60b1efcccf
SUMMARY:ESF VÕTI programmi koolitus: Pikksilm niitega kudumine kasutades WeavePoint arvutiprogrammi kangakudumise rakendamise programmi moodulit Complex Drafting
DTSTAMP:20240909
DTSTART:20240909
DTEND:20240924
DURATION:P15D
LOCATION:Olustvere, Talli 2
DESCRIPTION: <p><strong>ESF VÕTI programmi koolitus: </strong><span><strong>Pikksilm niitega kudumine kasutades WeavePoint arvutiprogrammi kangakudumise rakendamise programmi moodulit Complex Drafting</strong></span></p><p><span><strong>Koolituse pikkus: 2</strong>4 tundi</span></p><p><span><strong>Koolitus toimub:</strong> 9, 16 ja 23.september 2024</span></p><p><span><strong>Koolituse läbinud õppija:</strong></span></p><ul><li><span>kavandab eseme vastavalt valitud materjalile ja sidusele&nbsp; arvestades kavandamise põhimõtteid ning valmistab kavandi põhjal mõõtkavas tööjoonise kasutades WeavePoint mustri loomise ja kudumise arvutiprogrammi;</span></li><li><span>rakendab kangasteljed kasutades WeavePoint&nbsp;arvutiprogrammi kangakudumise rakendamise programmi moodulit&nbsp;Complex Drafting</span></li><li><span>koob kangastelgedel kasutades pikksilm niitega kudumist</span></li></ul><p><span><strong>Koolitaja:&nbsp;</strong></span></p><p><span><strong>Eva-Liisa Kriis –&nbsp;</strong>ettevõtja - praktik, kangakudumisega seotud koolituste läbiviija,&nbsp;Iida Käsitöökooli tegevjuht, kangakudumise muuseumi asutaja ja eestvedaja, Olustvere Teenindus- ja Maamajanduskooli kutseõpetaja</span></p><p><span><strong>Koolitus toimub Täiskasvanuhariduse arendamine ja mitteformaalsete õppimisvõimaluste pakkumine (programm VÕTI) raames ning see on osalejatele TASUTA</strong></span></p><p>Koolituse täpsema õppekava leiad <a href="https://www.olustvere.edu.ee/sites/olustvere.edu.ee/files/2024-06/Pikksilm%20niitega%20kudumine.pdf">SIIT</a></p><p>Koolitusele saad registreeida <a href="https://docs.google.com/forms/d/1VatBH2Z8zkWY6PbKniSKidmiB85W5mGwzB69cfex9YE/">SIIN</a></p><p><strong>Link: </strong>https://olustvere.edu.ee/et/koolituste-kalender/esf-voti-programmi-koolitus-pikksilm-niitega-kudumine-kasutades-weavepoint-arvutiprogrammi</p><p><strong>Hind: </strong>Osalejale tasuta</p>
STATUS:CONFIRMED
SEQUENCE:3
X-ALT-DESC;FMTTYPE=text/html:<p><strong>ESF VÕTI programmi koolitus: </strong><span><strong>Pikksilm niitega kudumine kasutades WeavePoint arvutiprogrammi kangakudumise rakendamise programmi moodulit Complex Drafting</strong></span></p><p><span><strong>Koolituse pikkus: 2</strong>4 tundi</span></p><p><span><strong>Koolitus toimub:</strong> 9, 16 ja 23.september 2024</span></p><p><span><strong>Koolituse läbinud õppija:</strong></span></p><ul><li><span>kavandab eseme vastavalt valitud materjalile ja sidusele&nbsp; arvestades kavandamise põhimõtteid ning valmistab kavandi põhjal mõõtkavas tööjoonise kasutades WeavePoint mustri loomise ja kudumise arvutiprogrammi;</span></li><li><span>rakendab kangasteljed kasutades WeavePoint&nbsp;arvutiprogrammi kangakudumise rakendamise programmi moodulit&nbsp;Complex Drafting</span></li><li><span>koob kangastelgedel kasutades pikksilm niitega kudumist</span></li></ul><p><span><strong>Koolitaja:&nbsp;</strong></span></p><p><span><strong>Eva-Liisa Kriis –&nbsp;</strong>ettevõtja - praktik, kangakudumisega seotud koolituste läbiviija,&nbsp;Iida Käsitöökooli tegevjuht, kangakudumise muuseumi asutaja ja eestvedaja, Olustvere Teenindus- ja Maamajanduskooli kutseõpetaja</span></p><p><span><strong>Koolitus toimub Täiskasvanuhariduse arendamine ja mitteformaalsete õppimisvõimaluste pakkumine (programm VÕTI) raames ning see on osalejatele TASUTA</strong></span></p><p>Koolituse täpsema õppekava leiad <a href="https://www.olustvere.edu.ee/sites/olustvere.edu.ee/files/2024-06/Pikksilm%20niitega%20kudumine.pdf">SIIT</a></p><p>Koolitusele saad registreeida <a href="https://docs.google.com/forms/d/1VatBH2Z8zkWY6PbKniSKidmiB85W5mGwzB69cfex9YE/">SIIN</a></p><p><strong>Link: </strong>https://olustvere.edu.ee/et/koolituste-kalender/esf-voti-programmi-koolitus-pikksilm-niitega-kudumine-kasutades-weavepoint-arvutiprogrammi</p><p><strong>Hind: </strong>Osalejale tasuta</p>
X-MICROSOFT-CDO-BUSYSTATUS:OOF
X-MICROSOFT-CDO-IMPORTANCE:1
X-MICROSOFT-DISALLOW-COUNTER:FALSE
X-MS-OLK-ALLOWEXTERNCHECK:TRUE
X-MS-OLK-CONFTYPE:0
X-MICROSOFT-CDO-ALLDAYEVENT:1
X-MICROSOFT-MSNCALENDAR-ALLDAYEVENT:1
END:VEVENT
END:VCALENDAR