BEGIN:VCALENDAR
PRODID:-//Microsoft Corporation//Outlook 12.0 MIMEDIR//EN
VERSION:2.0
CALSCALE:GREGORIAN
BEGIN:VEVENT
UID: 2a7204f5-686d-48a5-923b-231def865ccb
SUMMARY:ESF VÕTI programmi koolitus: Lihameistri koolitussari: Sinkide ja kuivatatud lihatoodete valmistamine kasutades kaasaegseid lihatöötlemisseadmeid
DTSTAMP:20240911
DTSTART:20240911
DTEND:20240928
DURATION:P17D
LOCATION:Olustvere
DESCRIPTION: <p><strong>ESF VÕTI programmi koolitus: Lihameistri koolitussari: Sinkide ja kuivatud lihatoodete valmistamine kasutades kaasaegseid lihatöötlemisseadmeid</strong></p><p><strong>Koolituse pikkus: </strong>32 tundi</p><p><strong>Koolitus toimub:</strong> <span><strong>11.-12. september; 26.-27. september</strong></span> 2024</p><p><strong>Koolituse läbinud õppija:&nbsp;</strong></p><ul><li>tükeldab&nbsp;<span> </span>rümpa (siga, kana- broiler, vutt), kasutades erinevaid lihalõikusmeetodeid ning asjakohaseid töövõtteid, seadmeid ja töövahendeid;</li><li><span>&nbsp;</span>sorteerib liha vastavalt soovitud toodangule&nbsp;</li><li><span>&nbsp;</span>valmistab erinevaid sinke ja kuivatatud liha</li></ul><p><strong>Koolitaja: </strong><span><strong>Eve Klettenberg</strong>&nbsp; - Olustvere Teenindus- ja Maamajanduskooli lihatoodete tehnoloogia kutseõpetaja, praktik. Toodab igapäevaselt koolile kuuluvas õppetööstuses lihatooteid müügiks.&nbsp;</span></p><p><span><strong>Koolitus toimub Täiskasvanuhariduse arendamine ja mitteformaalsete õppimisvõimaluste pakkumine (programm VÕTI) raames ning see on osalejatele TASUTA</strong></span></p><p><span>Koolituse täpsema õppekava leiad </span><a href="https://www.olustvere.edu.ee/sites/olustvere.edu.ee/files/2024-05/Sinkide%20ja%20kuivatatud%20lihatoodete%20valmistamine%20kasutades%20kaasaegseid%20lihat%C3%B6%C3%B6tlemissedmeid_0.pdf"><span>SIIT</span></a></p><p><span>Koolitusele saad registreerida S</span><a href="https://docs.google.com/forms/d/1YSr_2G_0bzpGkLAAAd7UOaXvXIhlzpDHx84MsO4DmI4/"><span>IIN</span></a></p><p><strong>Link: </strong>https://olustvere.edu.ee/et/koolituste-kalender/esf-voti-programmi-koolitus-lihameistri-koolitussari-sinkide-ja-kuivatatud-lihatoodete-valmistamine</p><p><strong>Hind: </strong>Osalejale tasuta</p>
STATUS:CONFIRMED
SEQUENCE:3
X-ALT-DESC;FMTTYPE=text/html:<p><strong>ESF VÕTI programmi koolitus: Lihameistri koolitussari: Sinkide ja kuivatud lihatoodete valmistamine kasutades kaasaegseid lihatöötlemisseadmeid</strong></p><p><strong>Koolituse pikkus: </strong>32 tundi</p><p><strong>Koolitus toimub:</strong> <span><strong>11.-12. september; 26.-27. september</strong></span> 2024</p><p><strong>Koolituse läbinud õppija:&nbsp;</strong></p><ul><li>tükeldab&nbsp;<span> </span>rümpa (siga, kana- broiler, vutt), kasutades erinevaid lihalõikusmeetodeid ning asjakohaseid töövõtteid, seadmeid ja töövahendeid;</li><li><span>&nbsp;</span>sorteerib liha vastavalt soovitud toodangule&nbsp;</li><li><span>&nbsp;</span>valmistab erinevaid sinke ja kuivatatud liha</li></ul><p><strong>Koolitaja: </strong><span><strong>Eve Klettenberg</strong>&nbsp; - Olustvere Teenindus- ja Maamajanduskooli lihatoodete tehnoloogia kutseõpetaja, praktik. Toodab igapäevaselt koolile kuuluvas õppetööstuses lihatooteid müügiks.&nbsp;</span></p><p><span><strong>Koolitus toimub Täiskasvanuhariduse arendamine ja mitteformaalsete õppimisvõimaluste pakkumine (programm VÕTI) raames ning see on osalejatele TASUTA</strong></span></p><p><span>Koolituse täpsema õppekava leiad </span><a href="https://www.olustvere.edu.ee/sites/olustvere.edu.ee/files/2024-05/Sinkide%20ja%20kuivatatud%20lihatoodete%20valmistamine%20kasutades%20kaasaegseid%20lihat%C3%B6%C3%B6tlemissedmeid_0.pdf"><span>SIIT</span></a></p><p><span>Koolitusele saad registreerida S</span><a href="https://docs.google.com/forms/d/1YSr_2G_0bzpGkLAAAd7UOaXvXIhlzpDHx84MsO4DmI4/"><span>IIN</span></a></p><p><strong>Link: </strong>https://olustvere.edu.ee/et/koolituste-kalender/esf-voti-programmi-koolitus-lihameistri-koolitussari-sinkide-ja-kuivatatud-lihatoodete-valmistamine</p><p><strong>Hind: </strong>Osalejale tasuta</p>
X-MICROSOFT-CDO-BUSYSTATUS:OOF
X-MICROSOFT-CDO-IMPORTANCE:1
X-MICROSOFT-DISALLOW-COUNTER:FALSE
X-MS-OLK-ALLOWEXTERNCHECK:TRUE
X-MS-OLK-CONFTYPE:0
X-MICROSOFT-CDO-ALLDAYEVENT:1
X-MICROSOFT-MSNCALENDAR-ALLDAYEVENT:1
END:VEVENT
END:VCALENDAR