BEGIN:VCALENDAR
PRODID:-//Microsoft Corporation//Outlook 12.0 MIMEDIR//EN
VERSION:2.0
CALSCALE:GREGORIAN
BEGIN:VEVENT
UID: fd9a7ee0-7ab9-4a16-8af8-379478139ae4
SUMMARY:Eesti-Läti Interreg projekti koolitus: Tervislikud küpsetised
DTSTAMP:20240229
DTSTART:20240229
DTEND:20240303
DURATION:P3D
LOCATION:Olustvere TMK õppeköök
DESCRIPTION: <p><strong>Eesti - Läti Interreg projekti koolitus Tervislikud küpsetised</strong></p><p><strong>Koolituse pikkus</strong>: 20 tundi</p><p><strong>Koolitus toimub:</strong> 29. veebruar- 02. märts. 2024</p><p><strong>Koolituse läbinud õppija: </strong></p><ul>	<li>Mõistab tervislikkuse tähtsust toitumisel sh. küpsetiste valmistamisel</li>	<li>Kasutab küpsetamisel seemne ja pähklijahu</li>	<li>Oskab küpsetada veresuhkrusõbralikke, gluteeni ja /või munavabasid ning laktoosi ja kaseiini vabasid küpsetisi</li>	<li>Kasutab frukdodisaini küpsetiste kaunistamiseks</li></ul><p><strong>Koolitajad: </strong></p><p><strong>Maire Vesingi - m</strong>itmete retseptiraamatute autor, toitumisnõustaja</p><p>Koolitus toimub Eesti- Läti intereg projekti raames ja on osalejale TASUTA. Koolitus toimub tõlkega eesti keelest vene keelde.</p><p>Täpsema õppekava leiad <a href="https://www.olustvere.edu.ee/sites/olustvere.edu.ee/files/oppekava_tervislikud-kupsetised_interreg_0_0.doc">SIIT</a></p><p>Koolitusele saad registreerida marika.shadeiko@olustvere.edu.ee</p><p><strong>Link: </strong>https://olustvere.edu.ee/et/koolituste-kalender/eesti-lati-interreg-projekti-koolitus-tervislikud-kupsetised</p><p><strong>Hind: </strong></p>
STATUS:CONFIRMED
SEQUENCE:3
X-ALT-DESC;FMTTYPE=text/html:<p><strong>Eesti - Läti Interreg projekti koolitus Tervislikud küpsetised</strong></p><p><strong>Koolituse pikkus</strong>: 20 tundi</p><p><strong>Koolitus toimub:</strong> 29. veebruar- 02. märts. 2024</p><p><strong>Koolituse läbinud õppija: </strong></p><ul>	<li>Mõistab tervislikkuse tähtsust toitumisel sh. küpsetiste valmistamisel</li>	<li>Kasutab küpsetamisel seemne ja pähklijahu</li>	<li>Oskab küpsetada veresuhkrusõbralikke, gluteeni ja /või munavabasid ning laktoosi ja kaseiini vabasid küpsetisi</li>	<li>Kasutab frukdodisaini küpsetiste kaunistamiseks</li></ul><p><strong>Koolitajad: </strong></p><p><strong>Maire Vesingi - m</strong>itmete retseptiraamatute autor, toitumisnõustaja</p><p>Koolitus toimub Eesti- Läti intereg projekti raames ja on osalejale TASUTA. Koolitus toimub tõlkega eesti keelest vene keelde.</p><p>Täpsema õppekava leiad <a href="https://www.olustvere.edu.ee/sites/olustvere.edu.ee/files/oppekava_tervislikud-kupsetised_interreg_0_0.doc">SIIT</a></p><p>Koolitusele saad registreerida marika.shadeiko@olustvere.edu.ee</p><p><strong>Link: </strong>https://olustvere.edu.ee/et/koolituste-kalender/eesti-lati-interreg-projekti-koolitus-tervislikud-kupsetised</p><p><strong>Hind: </strong></p>
X-MICROSOFT-CDO-BUSYSTATUS:OOF
X-MICROSOFT-CDO-IMPORTANCE:1
X-MICROSOFT-DISALLOW-COUNTER:FALSE
X-MS-OLK-ALLOWEXTERNCHECK:TRUE
X-MS-OLK-CONFTYPE:0
X-MICROSOFT-CDO-ALLDAYEVENT:1
X-MICROSOFT-MSNCALENDAR-ALLDAYEVENT:1
END:VEVENT
END:VCALENDAR